BEGIN:VCALENDAR
VERSION:2.0
PRODID:-//Sonsbeeck Park Breda - ECPv5.10.0//NONSGML v1.0//EN
CALSCALE:GREGORIAN
METHOD:PUBLISH
X-WR-CALNAME:Sonsbeeck Park Breda
X-ORIGINAL-URL:https://sonsbeeckpark.nl
X-WR-CALDESC:Evenementen voor Sonsbeeck Park Breda
BEGIN:VTIMEZONE
TZID:Europe/Paris
BEGIN:DAYLIGHT
TZOFFSETFROM:+0100
TZOFFSETTO:+0200
TZNAME:CEST
DTSTART:20220327T010000
END:DAYLIGHT
BEGIN:STANDARD
TZOFFSETFROM:+0200
TZOFFSETTO:+0100
TZNAME:CET
DTSTART:20221030T010000
END:STANDARD
END:VTIMEZONE
BEGIN:VEVENT
DTSTART;TZID=Europe/Paris:20220521T090000
DTEND;TZID=Europe/Paris:20220521T120000
DTSTAMP:20260422T125157
CREATED:20211102T213311Z
LAST-MODIFIED:20211102T213311Z
UID:2122-1653123600-1653134400@sonsbeeckpark.nl
SUMMARY:Parkonderhoud zaterdag 21 mei 2022
DESCRIPTION:Delen via:
URL:https://sonsbeeckpark.nl/agenda/parkonderhoud-zaterdag-21-mei-2022/
LOCATION:Devi Kids Sonsbeeck\, Bernhardsingel 51\, Breda\, 4811 SL\, Nederland
END:VEVENT
END:VCALENDAR